BEGIN:VCALENDAR
VERSION:2.0
PRODID:-//Gasthaus GartenGlück - ECPv6.15.20//NONSGML v1.0//EN
CALSCALE:GREGORIAN
METHOD:PUBLISH
X-ORIGINAL-URL:https://xn--gasthaus-gartenglck-mbc.de
X-WR-CALDESC:Veranstaltungen für Gasthaus GartenGlück
REFRESH-INTERVAL;VALUE=DURATION:PT1H
X-Robots-Tag:noindex
X-PUBLISHED-TTL:PT1H
BEGIN:VTIMEZONE
TZID:Europe/Helsinki
BEGIN:DAYLIGHT
TZOFFSETFROM:+0200
TZOFFSETTO:+0300
TZNAME:EEST
DTSTART:20250330T010000
END:DAYLIGHT
BEGIN:STANDARD
TZOFFSETFROM:+0300
TZOFFSETTO:+0200
TZNAME:EET
DTSTART:20251026T010000
END:STANDARD
BEGIN:DAYLIGHT
TZOFFSETFROM:+0200
TZOFFSETTO:+0300
TZNAME:EEST
DTSTART:20260329T010000
END:DAYLIGHT
BEGIN:STANDARD
TZOFFSETFROM:+0300
TZOFFSETTO:+0200
TZNAME:EET
DTSTART:20261025T010000
END:STANDARD
BEGIN:DAYLIGHT
TZOFFSETFROM:+0200
TZOFFSETTO:+0300
TZNAME:EEST
DTSTART:20270328T010000
END:DAYLIGHT
BEGIN:STANDARD
TZOFFSETFROM:+0300
TZOFFSETTO:+0200
TZNAME:EET
DTSTART:20271031T010000
END:STANDARD
END:VTIMEZONE
BEGIN:VEVENT
DTSTART;VALUE=DATE:20260416
DTEND;VALUE=DATE:20260417
DTSTAMP:20260421T183932
CREATED:20260415T140215Z
LAST-MODIFIED:20260415T140215Z
UID:659-1776297600-1776383999@xn--gasthaus-gartenglck-mbc.de
SUMMARY:am Donnerstag 16.04.2026 ist das Gasthaus wegen einer Veranstaltung geschlossen
DESCRIPTION:
URL:https://xn--gasthaus-gartenglck-mbc.de/event/am-donnerstag-16-04-2026-ist-das-gasthaus-wegen-einer-veranstaltung-geschlossen/
END:VEVENT
END:VCALENDAR